{
 "extent": {
  "ymin": 32.000000000000014,
  "xmin": -159.99999999999997,
  "ymax": 70.000000566244125,
  "xmax": -51.995553946163938,
  "spatialReference": {
   "latestVcsWkid": 5773,
   "latestWkid": 4326,
   "wkid": 4326,
   "vcsWkid": 5773
  }
 },
 "blockWidth": 256,
 "mosaicOperator": "First",
 "serviceSourceType": "esriImageServiceSourceTypeDataset",
 "hasMultidimensions": true,
 "maxImageWidth": 15000,
 "tileInfo": {
  "lods": [
   {
    "level": 0,
    "scale": 70977793.28667666,
    "resolution": 0.16888889140552937
   },
   {
    "level": 1,
    "scale": 35488896.64333833,
    "resolution": 0.084444445702764687
   },
   {
    "level": 2,
    "scale": 17744448.321669165,
    "resolution": 0.042222222851382343
   }
  ],
  "lercError": 0.10000000000000001,
  "origin": {
   "x": -159.99999999999997,
   "y": 70.000000566244125
  },
  "format": "LERC2D",
  "compressionQuality": 100000,
  "rows": 256,
  "dpi": 96,
  "spatialReference": {
   "latestVcsWkid": 5773,
   "latestWkid": 4326,
   "wkid": 4326,
   "vcsWkid": 5773
  },
  "cols": 256
 },
 "meanValues": [
  253.83655468949863,
  236.70836390993111,
  169.33060475314062,
  255
 ],
 "hasColormap": false,
 "compressionType": "LERC2D",
 "defaultCompressionQuality": 75,
 "maxValues": [
  255,
  247,
  188,
  255
 ],
 "hasHistograms": true,
 "datasetFormat": "Cache/LERC2D",
 "maxImageHeight": 4100,
 "sortField": "",
 "bandNames": [
  "Band_1",
  "Band_2",
  "Band_3",
  "Band_4"
 ],
 "spatialReference": {
  "latestVcsWkid": 5773,
  "latestWkid": 4326,
  "wkid": 4326,
  "vcsWkid": 5773
 },
 "fullExtent": {
  "ymin": 32.000000000000014,
  "xmin": -159.99999999999997,
  "ymax": 70.000000566244125,
  "xmax": -51.995553946163938,
  "spatialReference": {
   "latestVcsWkid": 5773,
   "latestWkid": 4326,
   "wkid": 4326,
   "vcsWkid": 5773
  }
 },
 "bandCount": 4,
 "rasterFunctionInfos": [
  {
   "help": "",
   "name": "None",
   "description": "Make a Raster or Raster Dataset into a Function Raster Dataset."
  }
 ],
 "supportsStatistics": false,
 "sortableFields": "",
 "minValues": [
  102,
  37,
  2,
  255
 ],
 "allowRasterFunction": true,
 "allowComputeTiePoints": false,
 "serviceDataType": "esriImageServiceDataTypeGeneric",
 "supportsAdvancedQueries": false,
 "currentVersion": 12.1,
 "heightModelInfo": {
  "vertCRS": "EGM96_height",
  "heightModel": "gravity_related_height",
  "heightUnit": "meter"
 },
 "sortValue": null,
 "timeInfo": {
  "startTimeField": "StdTime",
  "endTimeField": "StdTime",
  "defaultTimeIntervalUnits": "esriTimeUnitsHours",
  "timeExtent": [
   1753668000000,
   1753761600000
  ],
  "timeReference": null,
  "defaultTimeInterval": 1
 },
 "objectIdField": "",
 "blockHeight": 256,
 "initialExtent": {
  "ymin": 32.000000000000014,
  "xmin": -159.99999999999997,
  "ymax": 70.000000566244125,
  "xmax": -51.995553946163938,
  "spatialReference": {
   "latestVcsWkid": 5773,
   "latestWkid": 4326,
   "wkid": 4326,
   "vcsWkid": 5773
  }
 },
 "pixelSizeX": 0.042222222851382343,
 "pixelSizeY": 0.042222222851382343,
 "defaultMosaicMethod": "Center",
 "name": "Hosted/July28morn",
 "allowedMosaicMethods": "",
 "fields": [],
 "defaultVariable": "",
 "bsq": false,
 "allowAnalysis": true,
 "hasRasterAttributeTable": false,
 "useStandardizedQueries": false,
 "description": "",
 "pixelType": "U8",
 "meanPixelSize": 4700.1563479760016,
 "exportTilesAllowed": false,
 "editFieldsInfo": null,
 "rasterTypeInfos": [
  {
   "help": "",
   "name": "Raster Dataset",
   "description": "Supports all ArcGIS Raster Datasets"
  }
 ],
 "defaultResamplingMethod": "Bilinear",
 "itemAccess": false,
 "minScale": 0,
 "cacheType": "Raster",
 "serviceProperties": "Center<\/MosaicMethod>First<\/MosaicOperator>true<\/SortAscending><\/LockImageID><\/TileOrderField>0<\/TileOrderBase>0.000000<\/AvgImageSpacingX>0.000000<\/AvgImageSpacingY>0.0<\/ViewPointX>0.0<\/ViewPointY>0.0<\/ViewPointDefShiftX>0.0<\/ViewPointDefShiftY>None<\/CompressionMethod>75<\/CompressionQuality>0.010000<\/CompressionTolerance>Bilinear<\/SamplingMethod><\/ImageServiceProperties><\/ImageServer>",
 "advancedQueryCapabilities": {
  "supportsStatistics": false,
  "supportsSqlExpression": false,
  "supportsOrderBy": false,
  "useStandardizedQueries": false,
  "supportsPagination": false,
  "supportsDistinct": false
 },
 "serviceItemId": "6ebd7925709e464ca706a789e67a8ad9",
 "capabilities": "Image, Metadata",
 "maxScale": 0,
 "singleFusedMapCache": true,
 "stdvValues": [
  10.125685261209206,
  25.936302357578281,
  38.775672713877007,
  0
 ],
 "allowedFields": "",
 "minPixelSize": 0,
 "storageInfo": {
  "storageFormat": "esriMapCacheStorageModeCompactV2",
  "packetSize": 16
 },
 "sortAscending": true,
 "inspectionCapabilities": "",
 "maxPixelSize": 0,
 "allowedCompressions": "None,JPEG,LZ77,LERC",
 "uncompressedSize": 9208800,
 "serviceDescription": "Hosted/July28morn",
 "allowCopy": true,
 "copyrightText": "",
 "mensurationCapabilities": "Basic",
 "ownershipBasedAccessControlForRasters": null
}
