{
 "extent": {
  "ymin": 6306068.3991918303,
  "xmin": -8459116.6090046,
  "ymax": 6683708.3991918303,
  "xmax": -8082736.6090046,
  "spatialReference": {
   "latestWkid": 3857,
   "wkid": 102100
  }
 },
 "blockWidth": 256,
 "mosaicOperator": "First",
 "serviceSourceType": "esriImageServiceSourceTypeDataset",
 "hasMultidimensions": false,
 "maxImageWidth": 15000,
 "tileInfo": {
  "lods": [
   {
    "level": 0,
    "scale": 7256678.3999999994,
    "resolution": 1920
   },
   {
    "level": 1,
    "scale": 3628339.1999999997,
    "resolution": 960
   },
   {
    "level": 2,
    "scale": 1814169.5999999999,
    "resolution": 480
   },
   {
    "level": 3,
    "scale": 907084.79999999993,
    "resolution": 240
   },
   {
    "level": 4,
    "scale": 453542.39999999997,
    "resolution": 120
   },
   {
    "level": 5,
    "scale": 226771.19999999998,
    "resolution": 60
   },
   {
    "level": 6,
    "scale": 113385.59999999999,
    "resolution": 30
   }
  ],
  "lercError": 0,
  "origin": {
   "x": -8459116.6090046,
   "y": 6683708.3991918303
  },
  "format": "LERC2D",
  "compressionQuality": 0,
  "rows": 256,
  "dpi": 96,
  "spatialReference": {
   "latestWkid": 3857,
   "wkid": 102100
  },
  "cols": 256
 },
 "meanValues": [
  0.064629751121344559
 ],
 "hasColormap": false,
 "compressionType": "LERC2D",
 "defaultCompressionQuality": 75,
 "maxValues": [
  1
 ],
 "hasHistograms": true,
 "datasetFormat": "Cache/LERC2D",
 "maxImageHeight": 4100,
 "sortField": "",
 "bandNames": [
  "Band_1"
 ],
 "spatialReference": {
  "latestWkid": 3857,
  "wkid": 102100
 },
 "fullExtent": {
  "ymin": 6306068.3991918303,
  "xmin": -8459116.6090046,
  "ymax": 6683708.3991918303,
  "xmax": -8082736.6090046,
  "spatialReference": {
   "latestWkid": 3857,
   "wkid": 102100
  }
 },
 "bandCount": 1,
 "rasterFunctionInfos": [
  {
   "help": "",
   "name": "None",
   "description": ""
  }
 ],
 "supportsStatistics": false,
 "sortableFields": "",
 "minValues": [
  -1
 ],
 "allowRasterFunction": true,
 "allowComputeTiePoints": false,
 "serviceDataType": "esriImageServiceDataTypeGeneric",
 "supportsAdvancedQueries": false,
 "currentVersion": 12.1,
 "sortValue": null,
 "objectIdField": "",
 "blockHeight": 256,
 "initialExtent": {
  "ymin": 6306068.3991918303,
  "xmin": -8459116.6090046,
  "ymax": 6683708.3991918303,
  "xmax": -8082736.6090046,
  "spatialReference": {
   "latestWkid": 3857,
   "wkid": 102100
  }
 },
 "pixelSizeX": 30,
 "pixelSizeY": 30,
 "defaultMosaicMethod": "Center",
 "name": "Hosted/LacLaValliere_Damaged",
 "allowedMosaicMethods": "",
 "fields": [],
 "allowAnalysis": true,
 "hasRasterAttributeTable": false,
 "useStandardizedQueries": false,
 "description": "",
 "pixelType": "F32",
 "meanPixelSize": 30,
 "exportTilesAllowed": false,
 "editFieldsInfo": null,
 "rasterTypeInfos": [
  {
   "help": "",
   "name": "Raster Dataset",
   "description": "Supports all ArcGIS Raster Datasets"
  }
 ],
 "defaultResamplingMethod": "Nearest",
 "itemAccess": false,
 "minScale": 0,
 "cacheType": "Raster",
 "serviceProperties": "Center<\/MosaicMethod>First<\/MosaicOperator>true<\/SortAscending><\/LockImageID><\/TileOrderField>0<\/TileOrderBase>0.000000<\/AvgImageSpacingX>0.000000<\/AvgImageSpacingY>0.0<\/ViewPointX>0.0<\/ViewPointY>0.0<\/ViewPointDefShiftX>0.0<\/ViewPointDefShiftY>None<\/CompressionMethod>75<\/CompressionQuality>0.010000<\/CompressionTolerance>Nearest<\/SamplingMethod><\/ImageServiceProperties><\/ImageServer>",
 "advancedQueryCapabilities": {
  "supportsStatistics": false,
  "supportsSqlExpression": false,
  "supportsOrderBy": false,
  "useStandardizedQueries": false,
  "supportsPagination": false,
  "supportsDistinct": false
 },
 "serviceItemId": "2152b125db034935aa67d05ba5c4d6ad",
 "capabilities": "Image",
 "maxScale": 0,
 "singleFusedMapCache": true,
 "stdvValues": [
  0.097758423625319862
 ],
 "allowedFields": "",
 "minPixelSize": 0,
 "storageInfo": {
  "storageFormat": "esriMapCacheStorageModeCompactV2",
  "packetSize": 16
 },
 "sortAscending": true,
 "inspectionCapabilities": "",
 "maxPixelSize": 0,
 "allowedCompressions": "None,JPEG,LZ77,LERC",
 "uncompressedSize": 631716192,
 "serviceDescription": "Hosted/LacLaValliere_Damaged",
 "allowCopy": true,
 "copyrightText": "",
 "mensurationCapabilities": "Basic,Base-Top Shadow Height",
 "ownershipBasedAccessControlForRasters": null
}
