{
 "extent": {
  "ymin": 6308033.7983999997,
  "xmin": -8463748.0204000007,
  "ymax": 6683273.7983999997,
  "xmax": -8085598.0204000007,
  "spatialReference": {
   "latestWkid": 3857,
   "wkid": 102100
  }
 },
 "blockWidth": 256,
 "mosaicOperator": "First",
 "serviceSourceType": "esriImageServiceSourceTypeDataset",
 "hasMultidimensions": true,
 "maxImageWidth": 15000,
 "tileInfo": {
  "lods": [
   {
    "level": 0,
    "scale": 7256678.3999999994,
    "resolution": 1920
   },
   {
    "level": 1,
    "scale": 3628339.1999999997,
    "resolution": 960
   },
   {
    "level": 2,
    "scale": 1814169.5999999999,
    "resolution": 480
   },
   {
    "level": 3,
    "scale": 907084.79999999993,
    "resolution": 240
   },
   {
    "level": 4,
    "scale": 453542.39999999997,
    "resolution": 120
   },
   {
    "level": 5,
    "scale": 226771.19999999998,
    "resolution": 60
   },
   {
    "level": 6,
    "scale": 113385.59999999999,
    "resolution": 30
   }
  ],
  "lercError": 0.10000000000000001,
  "origin": {
   "x": -8463748.0204000007,
   "y": 6683273.7983999997
  },
  "format": "LERC2D",
  "compressionQuality": 100000,
  "rows": 256,
  "dpi": 96,
  "spatialReference": {
   "latestWkid": 3857,
   "wkid": 102100
  },
  "cols": 256
 },
 "meanValues": [
  0,
  0,
  0,
  0,
  0,
  0,
  0,
  0
 ],
 "hasColormap": false,
 "compressionType": "LERC2D",
 "defaultCompressionQuality": 75,
 "maxValues": [
  65535,
  65535,
  65535,
  65535,
  65535,
  65535,
  65535,
  65535
 ],
 "hasHistograms": true,
 "datasetFormat": "Cache/LERC2D",
 "maxImageHeight": 4100,
 "sortField": "",
 "bandNames": [
  "CoastalAerosol",
  "Blue",
  "Green",
  "Red",
  "NearInfrared",
  "ShortWaveInfrared_1",
  "ShortWaveInfrared_2",
  "Cirrus"
 ],
 "spatialReference": {
  "latestWkid": 3857,
  "wkid": 102100
 },
 "fullExtent": {
  "ymin": 6308033.7983999997,
  "xmin": -8463748.0204000007,
  "ymax": 6683273.7983999997,
  "xmax": -8085598.0204000007,
  "spatialReference": {
   "latestWkid": 3857,
   "wkid": 102100
  }
 },
 "bandCount": 8,
 "rasterFunctionInfos": [
  {
   "help": "",
   "name": "None",
   "description": "Make a Raster or Raster Dataset into a Function Raster Dataset."
  }
 ],
 "supportsStatistics": false,
 "sortableFields": "",
 "minValues": [
  0,
  0,
  0,
  0,
  0,
  0,
  0,
  0
 ],
 "allowRasterFunction": true,
 "allowComputeTiePoints": false,
 "serviceDataType": "esriImageServiceDataTypeGeneric",
 "supportsAdvancedQueries": false,
 "currentVersion": 12.1,
 "sortValue": null,
 "transposeInfo": {
  "rows": 128,
  "cols": 128
 },
 "timeInfo": {
  "startTimeField": "StdTime",
  "endTimeField": "StdTime",
  "defaultTimeIntervalUnits": "esriTimeUnitsDays",
  "timeExtent": [
   1683733726324,
   1686498532849
  ],
  "timeReference": null,
  "defaultTimeInterval": 7.9999817100000001
 },
 "objectIdField": "",
 "blockHeight": 256,
 "initialExtent": {
  "ymin": 6308033.7983999997,
  "xmin": -8463748.0204000007,
  "ymax": 6683273.7983999997,
  "xmax": -8085598.0204000007,
  "spatialReference": {
   "latestWkid": 3857,
   "wkid": 102100
  }
 },
 "pixelSizeX": 30,
 "pixelSizeY": 30,
 "defaultMosaicMethod": "Center",
 "name": "Hosted/LacLaValliere_Fire_MD",
 "allowedMosaicMethods": "",
 "fields": [],
 "defaultVariable": "",
 "allowAnalysis": true,
 "hasRasterAttributeTable": false,
 "useStandardizedQueries": false,
 "description": "",
 "pixelType": "U16",
 "meanPixelSize": 30,
 "exportTilesAllowed": false,
 "editFieldsInfo": null,
 "rasterTypeInfos": [
  {
   "help": "",
   "name": "Raster Dataset",
   "description": "Supports all ArcGIS Raster Datasets"
  }
 ],
 "defaultResamplingMethod": "Bilinear",
 "itemAccess": false,
 "minScale": 0,
 "cacheType": "Raster",
 "serviceProperties": "Center<\/MosaicMethod>First<\/MosaicOperator>true<\/SortAscending><\/LockImageID><\/TileOrderField>0<\/TileOrderBase>0.000000<\/AvgImageSpacingX>0.000000<\/AvgImageSpacingY>0.0<\/ViewPointX>0.0<\/ViewPointY>0.0<\/ViewPointDefShiftX>0.0<\/ViewPointDefShiftY>None<\/CompressionMethod>75<\/CompressionQuality>0.010000<\/CompressionTolerance>Bilinear<\/SamplingMethod><\/ImageServiceProperties><\/ImageServer>",
 "advancedQueryCapabilities": {
  "supportsStatistics": false,
  "supportsSqlExpression": false,
  "supportsOrderBy": false,
  "useStandardizedQueries": false,
  "supportsPagination": false,
  "supportsDistinct": false
 },
 "serviceItemId": "2928ddb078a84191b24744a1db8cd2df",
 "capabilities": "Image, Metadata",
 "maxScale": 0,
 "singleFusedMapCache": true,
 "stdvValues": [
  0,
  0,
  0,
  0,
  0,
  0,
  0,
  0
 ],
 "allowedFields": "",
 "minPixelSize": 0,
 "storageInfo": {
  "storageFormat": "esriMapCacheStorageModeCompactV2",
  "packetSize": 8
 },
 "sortAscending": true,
 "inspectionCapabilities": "",
 "maxPixelSize": 0,
 "allowedCompressions": "None,JPEG,LZ77,LERC",
 "uncompressedSize": 2522613440,
 "serviceDescription": "Hosted/LacLaValliere_Fire_MD",
 "allowCopy": true,
 "copyrightText": "",
 "mensurationCapabilities": "Basic",
 "ownershipBasedAccessControlForRasters": null
}
