{ "extent": { "ymin": 4642724.0761343632, "xmin": -13630673.548693545, "ymax": 4645232.0761343632, "xmax": -13627139.548693545, "spatialReference": { "latestWkid": 3857, "wkid": 102100 } }, "blockWidth": 128, "mosaicOperator": "First", "serviceSourceType": "esriImageServiceSourceTypeDataset", "hasMultidimensions": false, "maxImageWidth": 15000, "meanValues": [ 131.48561298806999, 131.43423162462, 101.55774244545, 146.00624588752001 ], "hasColormap": false, "compressionType": "None", "defaultCompressionQuality": 75, "maxValues": [ 255, 255, 255, 255 ], "hasHistograms": true, "datasetFormat": "TIFF", "maxImageHeight": 4100, "sortField": "", "bandNames": [ "Band_1", "Band_2", "Band_3", "Band_4" ], "spatialReference": { "latestWkid": 3857, "wkid": 102100 }, "fullExtent": { "ymin": 4642724.0761343632, "xmin": -13630673.548693545, "ymax": 4645232.0761343632, "xmax": -13627139.548693545, "spatialReference": { "latestWkid": 3857, "wkid": 102100 } }, "bandCount": 4, "rasterFunctionInfos": [{ "help": "", "name": "None", "description": "" }], "supportsStatistics": false, "sortableFields": "", "minValues": [ 11, 7, 7, 0 ], "allowRasterFunction": true, "allowComputeTiePoints": false, "serviceDataType": "esriImageServiceDataTypeGeneric", "supportsAdvancedQueries": false, "currentVersion": 12.1, "sortValue": null, "objectIdField": "", "blockHeight": 128, "initialExtent": { "ymin": 4642724.0761343632, "xmin": -13630673.548693545, "ymax": 4645232.0761343632, "xmax": -13627139.548693545, "spatialReference": { "latestWkid": 3857, "wkid": 102100 } }, "pixelSizeX": 1, "pixelSizeY": 1, "defaultMosaicMethod": "Center", "name": "Napa4Band_tif", "allowedMosaicMethods": "", "fields": [], "allowAnalysis": true, "hasRasterAttributeTable": false, "useStandardizedQueries": false, "description": "
USDA aerial photography of section of the napa valley in california<\/span><\/p><\/div><\/div><\/div>",
"pixelType": "U8",
"meanPixelSize": 1,
"exportTilesAllowed": false,
"editFieldsInfo": null,
"rasterTypeInfos": [{
"help": "",
"name": "Raster Dataset",
"description": "Supports all ArcGIS Raster Datasets"
}],
"defaultResamplingMethod": "Bilinear",
"itemAccess": false,
"minScale": 0,
"serviceProperties": " USDA aerial photography of section of the napa valley in california<\/span><\/p><\/div><\/div><\/div>",
"allowCopy": true,
"copyrightText": "USDA",
"mensurationCapabilities": "Basic",
"ownershipBasedAccessControlForRasters": null
}