{
 "extent": {
  "ymin": 5460200.1370000001,
  "xmin": 488704.04000000004,
  "ymax": 5461200.1370000001,
  "xmax": 490304.04000000004,
  "spatialReference": {
   "latestWkid": 3157,
   "wkid": 3157
  }
 },
 "blockWidth": 1024,
 "mosaicOperator": "First",
 "serviceSourceType": "esriImageServiceSourceTypeDataset",
 "hasMultidimensions": false,
 "maxImageWidth": 17000,
 "meanValues": [
  85.086111111110995,
  110.61507936508001,
  88.409920634920994
 ],
 "hasColormap": false,
 "compressionType": "Wavelet (MG3)",
 "defaultCompressionQuality": 75,
 "maxValues": [
  255,
  255,
  255
 ],
 "hasHistograms": true,
 "datasetFormat": "MrSID",
 "maxImageHeight": 11000,
 "sortField": "",
 "bandNames": [
  "Band_1",
  "Band_2",
  "Band_3"
 ],
 "spatialReference": {
  "latestWkid": 3157,
  "wkid": 3157
 },
 "fullExtent": {
  "ymin": 5460200.1370000001,
  "xmin": 488704.04000000004,
  "ymax": 5461200.1370000001,
  "xmax": 490304.04000000004,
  "spatialReference": {
   "latestWkid": 3157,
   "wkid": 3157
  }
 },
 "bandCount": 3,
 "rasterFunctionInfos": [
  {
   "help": "",
   "name": "None",
   "description": ""
  }
 ],
 "supportsStatistics": false,
 "sortableFields": "",
 "minValues": [
  10,
  43,
  45
 ],
 "allowRasterFunction": true,
 "allowComputeTiePoints": false,
 "serviceDataType": "esriImageServiceDataTypeRGB",
 "supportsAdvancedQueries": false,
 "currentVersion": 12.1,
 "sortValue": null,
 "objectIdField": "",
 "blockHeight": 128,
 "initialExtent": {
  "ymin": 5460200.1370000001,
  "xmin": 488704.04000000004,
  "ymax": 5461200.1370000001,
  "xmax": 490304.04000000004,
  "spatialReference": {
   "latestWkid": 3157,
   "wkid": 3157
  }
 },
 "pixelSizeX": 0.10000000000000001,
 "pixelSizeY": 0.10000000000000001,
 "defaultMosaicMethod": "Center",
 "name": "Vancouver_04_05_LM",
 "allowedMosaicMethods": "",
 "fields": [],
 "allowAnalysis": true,
 "hasRasterAttributeTable": false,
 "useStandardizedQueries": false,
 "description": "",
 "pixelType": "U8",
 "meanPixelSize": 0.10000000000000001,
 "exportTilesAllowed": false,
 "editFieldsInfo": null,
 "rasterTypeInfos": [
  {
   "help": "",
   "name": "Raster Dataset",
   "description": "Supports all ArcGIS Raster Datasets"
  }
 ],
 "defaultResamplingMethod": "Bilinear",
 "itemAccess": false,
 "minScale": 0,
 "serviceProperties": "Center<\/MosaicMethod>First<\/MosaicOperator>true<\/SortAscending><\/LockImageID><\/TileOrderField>0<\/TileOrderBase>0.000000<\/AvgImageSpacingX>0.000000<\/AvgImageSpacingY>0.0<\/ViewPointX>0.0<\/ViewPointY>0.0<\/ViewPointDefShiftX>0.0<\/ViewPointDefShiftY>None<\/CompressionMethod>75<\/CompressionQuality>0.010000<\/CompressionTolerance>Bilinear<\/SamplingMethod><\/ImageServiceProperties><\/ImageServer>",
 "advancedQueryCapabilities": {
  "supportsStatistics": false,
  "supportsSqlExpression": false,
  "supportsOrderBy": false,
  "useStandardizedQueries": false,
  "supportsPagination": false,
  "supportsDistinct": false
 },
 "serviceItemId": "8ee1bc534f65435799fa804381debb58",
 "capabilities": "Image,Metadata,Pixels,Mensuration",
 "maxScale": 0,
 "stdvValues": [
  34.089089127973999,
  29.062430248997,
  23.30819693666
 ],
 "allowedFields": "",
 "minPixelSize": 0,
 "sortAscending": true,
 "inspectionCapabilities": "",
 "maxPixelSize": 0,
 "allowedCompressions": "None,JPEG,LZ77,LERC",
 "uncompressedSize": 480000000,
 "serviceDescription": "Vancouver_04_05_LM",
 "allowCopy": true,
 "copyrightText": "",
 "mensurationCapabilities": "Basic",
 "ownershipBasedAccessControlForRasters": null
}
