View In:
ArcGIS JavaScript
ArcGIS Online Map Viewer
ArcGIS Earth
Service Description: Elkhorn_DEM
Name: Elkhorn_DEM
Description:
Single Fused Map Cache: false
Extent:
XMin: 503009.5723522644
YMin: 4796722.223322852
XMax: 507092.73635192576
YMax: 4800302.042982491
Spatial Reference: 26912
(26912)
Initial Extent:
XMin: 503009.5723522644
YMin: 4796722.223322852
XMax: 507092.73635192576
YMax: 4800302.042982491
Spatial Reference: 26912
(26912)
Full Extent:
XMin: 503009.5723522644
YMin: 4796722.223322852
XMax: 507092.73635192576
YMax: 4800302.042982491
Spatial Reference: 26912
(26912)
Pixel Size X: 0.9997952986438143
Pixel Size Y: 0.9999496255975279
Band Count: 1
Pixel Type: F32
RasterFunction Infos: {"rasterFunctionInfos": [{
"help": "",
"name": "None",
"description": ""
}]}
Mensuration Capabilities: Basic
Inspection Capabilities:
Has Histograms: true
Has Colormap: false
Has Multi Dimensions : false
Rendering Rule:
Min Scale: 0
Max Scale: 0
Copyright Text:
Service Data Type: esriImageServiceDataTypeGeneric
Min Values: 2132.9133300781
Max Values: 2856.9016113281
Mean Values: 2492.9740037314
Standard Deviation Values: 164.80693886694999
Object ID Field:
Fields:
None
Default Mosaic Method: Center
Allowed Mosaic Methods:
SortField:
SortValue: N/A
Mosaic Operator: First
Default Compression Quality: 75
Default Resampling Method: Bilinear
Max Record Count: null
Max Image Height: 4500
Max Image Width: 15000
Max Download Image Count: null
Max Mosaic Image Count: null
Allow Raster Function: true
Allow Copy: true
Allow Analysis: true
Allow Compute TiePoints: false
Supports Statistics: false
Supports Advanced Queries: false
Use StandardizedQueries: false
Raster Type Infos:
Name: Raster Dataset
Description: Supports all ArcGIS Raster Datasets
Help:
Has Raster Attribute Table: false
Edit Fields Info: N/A
Ownership Based AccessControl For Rasters: N/A
Child Resources:
Info
Histograms
Statistics
Key Properties
Legend
Raster Function Infos
Supported Operations:
Export Image
Identify
Measure
Compute Histograms
Compute Statistics Histograms
Get Samples
Compute Class Statistics
Query Boundary
Compute Pixel Location
Compute Angles
Validate
Project