View In:
ArcGIS JavaScript
ArcGIS Online Map Viewer
ArcGIS Earth
Service Description: Hosted/Aug14
Name: Hosted/Aug14
Description:
Single Fused Map Cache: true
Tile Info:
- Height: 256
- Width: 256
- DPI: 96
-
Levels of Detail: 3
-
Level ID: 0
[ Start Tile, End Tile ]
- Resolution: 0.16888889140552937
- Scale: 70977793.28667666
-
Level ID: 1
[ Start Tile, End Tile ]
- Resolution: 0.084444445702764687
- Scale: 35488896.64333833
-
Level ID: 2
[ Start Tile, End Tile ]
- Resolution: 0.042222222851382343
- Scale: 17744448.321669165
- Format: LERC2D
- Compression Quality: 100000.0
- LERC Error: 0.1
- Origin: X: -159.99999999999997
Y: 70.00000056624413
- Spatial Reference: 4326
(4326)
VCSWkid(5773)
LatestVCSWkid(5773)
Storage Info:
- Storage Format: esriMapCacheStorageModeCompactV2
- Packet Size: 16
Extent:
XMin: -159.99999999999997
YMin: 32.000000000000014
XMax: -51.99555394616394
YMax: 70.00000056624413
Spatial Reference: 4326
(4326)
VCSWkid(5773)
LatestVCSWkid(5773)
Initial Extent:
XMin: -159.99999999999997
YMin: 32.000000000000014
XMax: -51.99555394616394
YMax: 70.00000056624413
Spatial Reference: 4326
(4326)
VCSWkid(5773)
LatestVCSWkid(5773)
Full Extent:
XMin: -159.99999999999997
YMin: 32.000000000000014
XMax: -51.99555394616394
YMax: 70.00000056624413
Spatial Reference: 4326
(4326)
VCSWkid(5773)
LatestVCSWkid(5773)
Time Info:
Start Time Field: StdTime
End Time Field: StdTime
Time Extent:
[2025/08/13 14:00:00 UTC, 2025/08/15 16:00:00 UTC]
Time Reference:
N/A
Pixel Size X: 0.04222222285138234
Pixel Size Y: 0.04222222285138234
Band Count: 4
Pixel Type: U8
RasterFunction Infos: {"rasterFunctionInfos": [{
"help": "",
"name": "None",
"description": "Make a Raster or Raster Dataset into a Function Raster Dataset."
}]}
Mensuration Capabilities: Basic
Inspection Capabilities:
Has Histograms: true
Has Colormap: false
Has Multi Dimensions : true
Rendering Rule:
Min Scale: 0
Max Scale: 0
Copyright Text:
Service Data Type: esriImageServiceDataTypeGeneric
Min Values: 102, 37, 2, 255
Max Values: 255, 247, 188, 255
Mean Values: 254.4611824421811, 239.8103262547566, 173.94892822890145, 255
Standard Deviation Values: 5.8579757424258991, 18.696908391776002, 31.258893103151333, 0
Object ID Field:
Fields:
None
Default Mosaic Method: Center
Allowed Mosaic Methods:
SortField:
SortValue: N/A
Mosaic Operator: First
Default Compression Quality: 75
Default Resampling Method: Bilinear
Max Record Count: null
Max Image Height: 4100
Max Image Width: 15000
Max Download Image Count: null
Max Mosaic Image Count: null
Allow Raster Function: true
Allow Copy: true
Allow Analysis: true
Allow Compute TiePoints: false
Supports Statistics: false
Supports Advanced Queries: false
Use StandardizedQueries: false
Raster Type Infos:
Name: Raster Dataset
Description: Supports all ArcGIS Raster Datasets
Help:
Has Raster Attribute Table: false
Edit Fields Info: N/A
Ownership Based AccessControl For Rasters: N/A
Child Resources:
Info
Histograms
Statistics
Key Properties
Legend
Raster Function Infos
Multidimensional Info
Slices
Supported Operations:
Export Image
Identify
Compute Histograms
Compute Statistics Histograms
Get Samples
Compute Class Statistics
Query Boundary
Compute Pixel Location
Compute Angles
Validate
Project