View In:
ArcGIS JavaScript
ArcGIS Online Map Viewer
ArcGIS Earth
Service Description: USDA aerial photography of section of the napa valley in california
Name: Napa4Band_tif
Description: USDA aerial photography of section of the napa valley in california
Single Fused Map Cache: false
Extent:
XMin: -1.3630673548693545E7
YMin: 4642724.076134363
XMax: -1.3627139548693545E7
YMax: 4645232.076134363
Spatial Reference: 102100
(3857)
Initial Extent:
XMin: -1.3630673548693545E7
YMin: 4642724.076134363
XMax: -1.3627139548693545E7
YMax: 4645232.076134363
Spatial Reference: 102100
(3857)
Full Extent:
XMin: -1.3630673548693545E7
YMin: 4642724.076134363
XMax: -1.3627139548693545E7
YMax: 4645232.076134363
Spatial Reference: 102100
(3857)
Pixel Size X: 1.0
Pixel Size Y: 1.0
Band Count: 4
Pixel Type: U8
RasterFunction Infos: {"rasterFunctionInfos": [{
"help": "",
"name": "None",
"description": ""
}]}
Mensuration Capabilities: Basic
Inspection Capabilities:
Has Histograms: true
Has Colormap: false
Has Multi Dimensions : false
Rendering Rule:
Min Scale: 0
Max Scale: 0
Resampling: false
Copyright Text: USDA
Service Data Type: esriImageServiceDataTypeGeneric
Min Values: 11, 7, 7, 0
Max Values: 255, 255, 255, 255
Mean Values: 131.48561298806999, 131.43423162462, 101.55774244545, 146.00624588752001
Standard Deviation Values: 38.374420840825998, 30.894992056677999, 33.233105766182, 33.248150339132998
Object ID Field:
Fields:
None
Default Mosaic Method: Center
Allowed Mosaic Methods:
SortField:
SortValue: N/A
Mosaic Operator: First
Default Compression Quality: 75
Default Resampling Method: Bilinear
Max Record Count: null
Max Image Height: 4100
Max Image Width: 15000
Max Download Image Count: null
Max Mosaic Image Count: null
Allow Raster Function: true
Allow Copy: true
Allow Analysis: true
Allow Compute TiePoints: false
Supports Statistics: false
Supports Advanced Queries: false
Use StandardizedQueries: false
Raster Type Infos:
Name: Raster Dataset
Description: Supports all ArcGIS Raster Datasets
Help:
Has Raster Attribute Table: false
Edit Fields Info: N/A
Ownership Based AccessControl For Rasters: N/A
Child Resources:
Info
Histograms
Statistics
Key Properties
Legend
Raster Function Infos
Supported Operations:
Export Image
Identify
Measure
Compute Histograms
Compute Statistics Histograms
Get Samples
Compute Class Statistics
Query Boundary
Compute Pixel Location
Compute Angles
Validate
Project