View In:
ArcGIS JavaScript
ArcGIS Online Map Viewer
ArcGIS Earth
Service Description: Vancouver_04_05_LM
Name: Vancouver_04_05_LM
Description:
Single Fused Map Cache: false
Extent:
XMin: 488704.04000000004
YMin: 5460200.137
XMax: 490304.04000000004
YMax: 5461200.137
Spatial Reference: 3157
(3157)
Initial Extent:
XMin: 488704.04000000004
YMin: 5460200.137
XMax: 490304.04000000004
YMax: 5461200.137
Spatial Reference: 3157
(3157)
Full Extent:
XMin: 488704.04000000004
YMin: 5460200.137
XMax: 490304.04000000004
YMax: 5461200.137
Spatial Reference: 3157
(3157)
Pixel Size X: 0.1
Pixel Size Y: 0.1
Band Count: 3
Pixel Type: U8
RasterFunction Infos: {"rasterFunctionInfos": [{
"help": "",
"name": "None",
"description": ""
}]}
Mensuration Capabilities: Basic
Inspection Capabilities:
Has Histograms: true
Has Colormap: false
Has Multi Dimensions : false
Rendering Rule:
Min Scale: 0
Max Scale: 0
Copyright Text:
Service Data Type: esriImageServiceDataTypeRGB
Min Values: 10, 43, 45
Max Values: 255, 255, 255
Mean Values: 85.086111111110995, 110.61507936508001, 88.409920634920994
Standard Deviation Values: 34.089089127973999, 29.062430248997, 23.30819693666
Object ID Field:
Fields:
None
Default Mosaic Method: Center
Allowed Mosaic Methods:
SortField:
SortValue: N/A
Mosaic Operator: First
Default Compression Quality: 75
Default Resampling Method: Bilinear
Max Record Count: null
Max Image Height: 11000
Max Image Width: 17000
Max Download Image Count: null
Max Mosaic Image Count: null
Allow Raster Function: true
Allow Copy: true
Allow Analysis: true
Allow Compute TiePoints: false
Supports Statistics: false
Supports Advanced Queries: false
Use StandardizedQueries: false
Raster Type Infos:
Name: Raster Dataset
Description: Supports all ArcGIS Raster Datasets
Help:
Has Raster Attribute Table: false
Edit Fields Info: N/A
Ownership Based AccessControl For Rasters: N/A
Child Resources:
Info
Histograms
Statistics
Key Properties
Legend
Raster Function Infos
Supported Operations:
Export Image
Identify
Measure
Compute Histograms
Compute Statistics Histograms
Get Samples
Compute Class Statistics
Query Boundary
Compute Pixel Location
Compute Angles
Validate
Project